BEGIN:VCALENDAR
VERSION:2.0
PRODID:-//www.jugendarbeit-therwil.ch//NONSGML kigkonsult.se iCalcreator 2.
 22//
CALSCALE:GREGORIAN
METHOD:PUBLISH
X-WR-TIMEZONE','EUROPE/BERLIN:
BEGIN:VEVENT
UID:20260421T125441CEST-6521D74jmE@www.jugendarbeit-therwil.ch
DTSTAMP:20260421T105441Z
DESCRIPTION:Klicken Sie auf den folgenden Link\, um weitere Informationen z
 ur Veranstaltung zu erhalten:\nhttps://www.jugendarbeit-therwil.ch/de/vera
 nstaltungen/detail/detail.php?i=1
DTSTART:20260617T190000
DTEND:20260617T220000
LOCATION:Mehrzweckhalle Bahnhofschulhaus
SUMMARY:Gemeindeversammlung
END:VEVENT
END:VCALENDAR
