BEGIN:VCALENDAR
VERSION:2.0
PRODID:-//www.jugendarbeit-therwil.ch//NONSGML kigkonsult.se iCalcreator 2.
 22//
CALSCALE:GREGORIAN
METHOD:PUBLISH
X-WR-TIMEZONE','EUROPE/BERLIN:
BEGIN:VEVENT
UID:20260421T142702CEST-5907UbmmG8@www.jugendarbeit-therwil.ch
DTSTAMP:20260421T122702Z
DESCRIPTION:Klicken Sie auf den folgenden Link\, um weitere Informationen z
 ur Veranstaltung zu erhalten:\nhttps://www.jugendarbeit-therwil.ch/de/vera
 nstaltungen/detail/detail.php?i=22928
DTSTART:20260510T190000
DTEND:20260510T201500
LOCATION:Katholische Kirche St. Stephan Therwil 
SUMMARY:SUMAY Música Boliviana    Klänge und Rhythmen aus den Anden
END:VEVENT
END:VCALENDAR
